BEGIN:VCALENDAR
VERSION:2.0
PRODID:-//Bencés Diákszövetség - ECPv5.16.4//NONSGML v1.0//EN
CALSCALE:GREGORIAN
METHOD:PUBLISH
X-ORIGINAL-URL:https://www.bencesdiak.hu
X-WR-CALDESC:Events for Bencés Diákszövetség
REFRESH-INTERVAL;VALUE=DURATION:PT1H
X-Robots-Tag:noindex
X-PUBLISHED-TTL:PT1H
BEGIN:VTIMEZONE
TZID:Europe/Budapest
BEGIN:DAYLIGHT
TZOFFSETFROM:+0100
TZOFFSETTO:+0200
TZNAME:CEST
DTSTART:20250330T010000
END:DAYLIGHT
BEGIN:STANDARD
TZOFFSETFROM:+0200
TZOFFSETTO:+0100
TZNAME:CET
DTSTART:20251026T010000
END:STANDARD
END:VTIMEZONE
BEGIN:VEVENT
DTSTART;TZID=Europe/Budapest:20250522T160000
DTEND;TZID=Europe/Budapest:20250522T163000
DTSTAMP:20260419T165127
CREATED:20250517T073033Z
LAST-MODIFIED:20250722T173606Z
UID:14292-1747929600-1747931400@www.bencesdiak.hu
SUMMARY:Bencés Diákszövetség Elnökségi ülés
DESCRIPTION:Tisztelt Elnökségi Tagok\, kedves Diáktársak! \nÉrtesítelek Benneteket\, hogy a Bencés Diákszövetség Elnöksége a következő ülését 2025. május 22. (csütörtök) 16:00-tól 16:30-ig tartja\, amelyre szeretettel meghívlak. \nAz elnökségi ülésre online módon\, videó konferencia keretében kerül sor\, amelyhez a következő linken lehet csatlakozni: https://meet.google.com/exj-rqbx-nyu \nNapirend: \n\nNapirend elfogadása;\nA Bencés Diákszövetség 2024. évi beszámolójának és közhasznúsági mellékletének elfogadása és a Küldöttgyűlés elé terjesztése;\nA Bencés Diákszövetség 2025. évi költségvetésének elfogadása és a Küldöttgyűlés elé terjesztése;\nA 2025. évi rendes Küldöttgyűlés előkészítésével kapcsolatos döntések;\nEgyéb aktualitások\n\nBudapest\, 2025. május 17. \nTisztelettel és barátsággal\, \nNógrádi László (Ph66)\nelnök
URL:https://www.bencesdiak.hu/esemeny/bences-diakszovetseg-elnoksegi-ules-20250522/
LOCATION:Budapest
CATEGORIES:Elnökségi ülés
ATTACH;FMTTYPE=image/jpeg:https://www.bencesdiak.hu/wp-content/uploads/video-conference.jpg
ORGANIZER;CN="Benc%C3%A9s%20Di%C3%A1ksz%C3%B6vets%C3%A9g":MAILTO:akta@bdsz.hu
END:VEVENT
BEGIN:VEVENT
DTSTART;TZID=Europe/Budapest:20250529T150000
DTEND;TZID=Europe/Budapest:20250529T163000
DTSTAMP:20260419T165127
CREATED:20250513T080057Z
LAST-MODIFIED:20250722T172903Z
UID:14289-1748530800-1748536200@www.bencesdiak.hu
SUMMARY:2025. évi rendes Küldöttgyűlés
DESCRIPTION:Tisztelt Küldöttek\, Pótküldöttek és Területi Vezetők! Kedves Diáktársaim!  \nA Bencés Diákszövetség 2025. évi rendes Küldöttgyűlését (Küldöttgyűlés) a Bencés Diákszövetség Alapszabálya 8. § 4. pontja alapján az alábbiak szerint hívom össze: \nA Küldöttgyűlés helyszíne: Szent Benedek Gimnázium és Technikum (1083 Budapest\, Práter u. 13.) (megközelítés M3 metróval\, 4 v. 6 villamossal: Corvin negyed megálló\, parkoláshoz ajánljuk a közeli Corvin Plaza Bevásárlóközpont fizetős parkolóját) \nA Küldöttgyűlés időpontja: 2025. május 29. csütörtök 15:00 óra (regisztráció 14:50-től) \nA Küldöttgyűlés megtartásának módja: személyes jelenléttel \nA Küldöttgyűlés napirendje:  \n\nKüldöttgyűlés megnyitása. Névsorolvasás. A határozatképesség megállapítása. Küldöttgyűlési tisztségviselők: levezető elnök\, jegyzőkönyvvezető\, két jegyzőkönyv hitelesítő megválasztása;\nNapirend elfogadása;\nAz Elnök és a Főtitkár beszámolója az elmúlt időszakról;\nA Bencés Diákszövetség 2024. évi beszámolójának és közhasznúsági mellékletének elfogadása\, a Felügyelőbizottság vonatkozó jelentésének ismertetése (a napirendhez kapcsolódó mellékletek letöltése: 2024. évi beszámoló\, Közhasznúsági melléklet);\nA Bencés Diákszövetség 2025. évi költségvetésének elfogadása;\nEgyebek (ebben a napirendi pontban határozathozatal nem történik);\nZárszó\n\nA Bencés Diákszövetség Alapszabálya 8. § 6. pontja alapján „[a] Küldöttgyűlés – mind a személyes részvétellel megtartott\, mind az elektronikus hírközlő eszköz igénybevételével megtartott Küldöttgyűlés ülés esetében – akkor határozatképes\, ha az érvényes mandátummal (területi szervezet által megválasztott és az Elnökségnek írásban bejelentett) rendelkező küldöttek több\, mint 50 százaléka megjelent. A területi szervezet\, ha valamely küldöttje akadályoztatása miatt nem tud megjelenni a Küldöttgyűlésen\, jogosult megválasztott és bejelentett pótküldöttei közül a kieső küldött helyén mást küldeni. A küldött helyén megjelenő pótküldöttet a Küldöttgyűlésen a küldöttekével azonos jogok illetik meg.” \nAmennyiben a 2025. május 29. napján 15:00 órára összehívott Küldöttgyűlés nem lesz határozatképes\, úgy a Bencés Diákszövetség Alapszabálya 8. § 6. pontja alapján a megismételt Küldöttgyűlést az eredeti\, jelen meghívóban közölt napirenddel 2025. május 29-én 15:15 órára tűzöm ki\, amelynek helyszíne: Szent Benedek Gimnázium és Technikum (1083 Budapest\, Práter u. 13.). A megismételt Küldöttgyűlés a megjelentek számára tekintet nélkül határozatképes. \nA Bencés Diákszövetség Alapszabálya 8. § 5/A. pontja alapján a Küldöttgyűlési meghívó közzétételétől számított 3 (három) napon belül a tagok és a Diákszövetség szervei a Küldöttgyűlést összehívó szervtől vagy személytől a napirend kiegészítését kérhetik\, a kiegészítés indokolásával. A napirend kiegészítésének tárgyában a Küldöttgyűlést összehívó szerv vagy személy 2 (két) napon belül dönt. Ha a napirend kiegészítése iránti kérelemről a Küldöttgyűlést összehívó szerv vagy személy nem dönt vagy azt elutasítja\, a Küldöttgyűlés a napirend elfogadásáról szóló határozat meghozatalát megelőzően külön dönt a napirend kiegészítésének tárgyában\, azzal\, hogy a szabályszerűen nem közölt napirenden szereplő kérdésben csak akkor hozható határozat\, ha a részvételre jogosultak legalább háromnegyede jelen van és a napirenden nem szereplő kérdés megtárgyalásához egyhangúlag hozzájárul. \nA Küldöttgyűlésen minden küldött egy-egy szavazattal rendelkezik. A küldöttek szavazati jogukat semmilyen formában másra át nem ruházhatják. \nKérjük\, hogy ezen a regisztrációs linken vagy az akta@bdsz.hu e-mail címen jelezzétek a részvételi szándékot. Az előzetes regisztráció nem kötelező\, de nagyban segíti a Küldöttgyűlés előkészítését. \nMindenki személyes megjelenésére számítunk! \nBudapest\, 2025. május 13. napján \nTisztelettel és barátsággal\, \nNógrádi László (Ph66)\na Bencés Diákszövetség elnöke
URL:https://www.bencesdiak.hu/esemeny/2025-evi-rendes-kuldottgyules/
LOCATION:Szent Benedek Gimnázium és Technikum\, Práter utca 13.\, Budapest\, Budapest\, 1083\, Hungary
ATTACH;FMTTYPE=image/jpeg:https://www.bencesdiak.hu/wp-content/uploads/bdsz-logo-400x250-1.jpg
ORGANIZER;CN="Benc%C3%A9s%20Di%C3%A1ksz%C3%B6vets%C3%A9g":MAILTO:akta@bdsz.hu
END:VEVENT
BEGIN:VEVENT
DTSTART;TZID=Europe/Budapest:20250531T093000
DTEND;TZID=Europe/Budapest:20250531T163000
DTSTAMP:20260419T165127
CREATED:20250504T110035Z
LAST-MODIFIED:20250722T170437Z
UID:14287-1748683800-1748709000@www.bencesdiak.hu
SUMMARY:Bencés Diáknap 2025
DESCRIPTION:Május utolsó szombatján újra várunk Benneteket a Bencés Diáknapon. A 10 órakor kezdődő szentmise után ezúttal a nagy álmunkról\, a közösségi iskolatervezésről hallunk majd. Az ősz óta tartó folyamatot két építésziroda koordinálja: a Cseh András (CAN Architects) és Gutowski Robert (Gutowski Architects) vezette tervező stúdiók. A Diáknapon az előbbi fogja bemutatni a terveket\, ill. mindannyiunkat hív az együttgondolkodásra.\nFiatal öregdiákjainkat kitüntetett szeretettel hívjuk erre az alkalomra\, ahol lehet majd vásárolni újonnan készült\, iskolacímeres nyakkendőt is. \nProgram \n2025. május 31. szombat \n09:30 – 10:00    Érkezés\, fogadás \n10:00 – 11:10    Szentmise a Bazilikában\, főcelebráns: Hortobágyi T. Cirill OSB \n11.30 – 12.10:      Köszöntő\, majd a CAN Architects építésziroda előadása \n12:20 – 13:05:   Szekcióbeszélgetések (alvás/hálók\, tanulás/stúdium\, étkezés/ebédlő) \n13:15:                 Ebéd (sör + virsli) \nA Jeges-teremben megtekinthetitek a gimnázium 70 éves Bélyeggyűjtő körének jubileumi kiállítását\, ill. új bencés nyakkendőt is tudtok vásárolni.
URL:https://www.bencesdiak.hu/esemeny/bences-diaknap-2025/
LOCATION:Pannonhalmi Bencés Gimnázium\, Vár 1\, Pannonhalma\, Győr-Moson-Sopron\, 9090\, Magyarország
ATTACH;FMTTYPE=image/jpeg:https://www.bencesdiak.hu/wp-content/uploads/PAX.jpg
END:VEVENT
END:VCALENDAR